BEGIN:VCALENDAR
VERSION:2.0
PRODID:spatie/icalendar-generator
DESCRIPTION:Events from Joshua&amp;#039\;s Trust
X-WR-CALDESC:Events from Joshua&amp;#039\;s Trust
REFRESH-INTERVAL;VALUE=DURATION:PT1440M
X-PUBLISHED-TTL:PT1440M
BEGIN:VTIMEZONE
TZID:America/New_York
BEGIN:STANDARD
DTSTART:20251102T020000Z
TZOFFSETFROM:-0400
TZOFFSETTO:-0500
END:STANDARD
BEGIN:DAYLIGHT
DTSTART:20260308T020000Z
TZOFFSETFROM:-0500
TZOFFSETTO:-0400
END:DAYLIGHT
END:VTIMEZONE
BEGIN:VTIMEZONE
TZID:UTC
BEGIN:STANDARD
DTSTART:20250727T053249Z
TZOFFSETFROM:+0000
TZOFFSETTO:+0000
END:STANDARD
END:VTIMEZONE
BEGIN:VEVENT
UID:360-359
DTSTAMP:20260423T053249Z
SUMMARY:60th Annual Meeting
LOCATION:Holiday Hill 41 Chaffeeville Road  Mansfield Center Connecticut 06
 250
ORGANIZER;CN=Melica Stinnett:MAILTO:melica.stinnett@joshuastrust.org
DTSTART;TZID=America/New_York:20260418T160000
DTEND;TZID=America/New_York:20260418T180000
X-ALT-DESC;FMTTYPE=TEXT/HTML:Join Joshua's Trust staff\, trustees\, and vol
 unteers in reflecting on another successful year of  protecting land and 
 preserving heritage–our 60th! RSVPs are encouraged &amp;amp\; appreciated! [
 maxbutton id=\"6\" url=\"https://secure.lglforms.com/form_engine/s/C3fw-QV
 Rpl0Q7OQiNWBfxA\" text=\"RSVP Here\" ] Joshua's Trust Annual Meetings are 
 open to everyone\, but voting privileges are reserved for members. A featu
 red talk will follow a reception and short&amp;hellip\;
CATEGORIES:Event
URL;VALUE=URI:https://joshuastrust.org/mc-events/60th-annual-meeting/
METHOD:PUBLISH
END:VEVENT
END:VCALENDAR