BEGIN:VCALENDAR
VERSION:2.0
PRODID:spatie/icalendar-generator
DESCRIPTION:Events from Joshua&amp;#039\;s Trust
X-WR-CALDESC:Events from Joshua&amp;#039\;s Trust
REFRESH-INTERVAL;VALUE=DURATION:PT1440M
X-PUBLISHED-TTL:PT1440M
BEGIN:VTIMEZONE
TZID:America/New_York
BEGIN:STANDARD
DTSTART:20251102T020000Z
TZOFFSETFROM:-0400
TZOFFSETTO:-0500
END:STANDARD
BEGIN:DAYLIGHT
DTSTART:20260308T020000Z
TZOFFSETFROM:-0500
TZOFFSETTO:-0400
END:DAYLIGHT
END:VTIMEZONE
BEGIN:VTIMEZONE
TZID:UTC
BEGIN:STANDARD
DTSTART:20250727T041330Z
TZOFFSETFROM:+0000
TZOFFSETTO:+0000
END:STANDARD
END:VTIMEZONE
BEGIN:VEVENT
UID:2-2
DTSTAMP:20260423T041330Z
SUMMARY:A Watershed’s Delight at Tinkerville Brook Preserve
LOCATION:Tinkerville Brook Preserve 135 Armitage Road  Ashford Connecticut
ORGANIZER;CN=Melica Stinnett:MAILTO:melica.stinnett@joshuastrust.org
DTSTART;TZID=America/New_York:20260411T100000
DTEND;TZID=America/New_York:20260411T120000
X-ALT-DESC;FMTTYPE=TEXT/HTML:Guided Hike with Kathy Demers &amp;amp\; Barbara S
 cott &amp;nbsp\; This program is full. Please email melica.stinnett@joshuastru
 st.org to be added to the waitlist! &amp;nbsp\; Tinkerville Brook Preserve in
  Ashford is a watershed’s best friend! Community members of all ages are
  invited on a leisurely hike through this remarkable 42-acre woodland. Lea
 rn about how Tinkerville’s Brook Preserve’s healthy&amp;hellip\;
CATEGORIES:Event,  Guided Hike
URL;VALUE=URI:https://joshuastrust.org/mc-events/a-watersheds-delight-at-ti
 nkerville-brook-preserve/
METHOD:PUBLISH
END:VEVENT
END:VCALENDAR