BEGIN:VCALENDAR
VERSION:2.0
PRODID:spatie/icalendar-generator
DESCRIPTION:Events from Joshua&amp;#039\;s Trust
X-WR-CALDESC:Events from Joshua&amp;#039\;s Trust
REFRESH-INTERVAL;VALUE=DURATION:PT1440M
X-PUBLISHED-TTL:PT1440M
BEGIN:VTIMEZONE
TZID:America/New_York
BEGIN:STANDARD
DTSTART:20251102T020000Z
TZOFFSETFROM:-0400
TZOFFSETTO:-0500
END:STANDARD
BEGIN:DAYLIGHT
DTSTART:20260308T020000Z
TZOFFSETFROM:-0500
TZOFFSETTO:-0400
END:DAYLIGHT
BEGIN:STANDARD
DTSTART:20261101T020000Z
TZOFFSETFROM:-0400
TZOFFSETTO:-0500
END:STANDARD
END:VTIMEZONE
BEGIN:VTIMEZONE
TZID:UTC
BEGIN:STANDARD
DTSTART:20250727T035459Z
TZOFFSETFROM:+0000
TZOFFSETTO:+0000
END:STANDARD
END:VTIMEZONE
BEGIN:VEVENT
UID:303-303
DTSTAMP:20260423T035459Z
SUMMARY:Annual Community Maypole Celebration
LOCATION:Atwood Farm 624 Wormwood Hill Road  Mansfield Center CT 06250
ORGANIZER;CN=Melica Stinnett:MAILTO:melica.stinnett@joshuastrust.org
DTSTART;TZID=America/New_York:20260502T140000
DTEND;TZID=America/New_York:20260502T160000
X-ALT-DESC;FMTTYPE=TEXT/HTML:Come welcome spring at the historic Atwood Far
 m while we dance around the May Pole\, accompanied by the music of Fiddler
 s and Friends. Free! All are welcome! Families with children are encourage
 d to attend! &amp;nbsp\;
CATEGORIES:Event,  Community Event
URL;VALUE=URI:https://joshuastrust.org/mc-events/annual-community-maypole-c
 elebration/
METHOD:PUBLISH
END:VEVENT
END:VCALENDAR