BEGIN:VCALENDAR
VERSION:2.0
PRODID:spatie/icalendar-generator
DESCRIPTION:Events from Joshua&amp;#039\;s Trust
X-WR-CALDESC:Events from Joshua&amp;#039\;s Trust
REFRESH-INTERVAL;VALUE=DURATION:PT1440M
X-PUBLISHED-TTL:PT1440M
BEGIN:VTIMEZONE
TZID:America/New_York
BEGIN:STANDARD
DTSTART:20251102T020000Z
TZOFFSETFROM:-0400
TZOFFSETTO:-0500
END:STANDARD
BEGIN:DAYLIGHT
DTSTART:20260308T020000Z
TZOFFSETFROM:-0500
TZOFFSETTO:-0400
END:DAYLIGHT
BEGIN:STANDARD
DTSTART:20261101T020000Z
TZOFFSETFROM:-0400
TZOFFSETTO:-0500
END:STANDARD
END:VTIMEZONE
BEGIN:VTIMEZONE
TZID:UTC
BEGIN:STANDARD
DTSTART:20250727T040914Z
TZOFFSETFROM:+0000
TZOFFSETTO:+0000
END:STANDARD
END:VTIMEZONE
BEGIN:VEVENT
UID:405-360
DTSTAMP:20260423T040914Z
SUMMARY:Connecticut Open House Day
LOCATION:Atwood Farm 624 Wormwood Hill Road  Mansfield Center CT 06250
ORGANIZER;CN=Melica Stinnett:MAILTO:melica.stinnett@joshuastrust.org
DTSTART;TZID=America/New_York:20260613T130000
DTEND;TZID=America/New_York:20260613T160000
X-ALT-DESC;FMTTYPE=TEXT/HTML:Visit Joshua's Trust on Connecticut Open House
  Day 2026 to experience our two iconic heritage sites–located less than 
 two miles from each other–through demonstrations\, tours\, and self-guid
 ed exploration! Atwood Farm Museum Step back in time at the Atwood Farm Mu
 seum in Mansfield! Explore the buildings\, grounds and implements of this 
 19th century farm through demonstrations\,&amp;hellip\;
CATEGORIES:Event,  Community Event
URL;VALUE=URI:https://joshuastrust.org/mc-events/connecticut-open-house-day
 -2/
METHOD:PUBLISH
END:VEVENT
END:VCALENDAR