BEGIN:VCALENDAR
VERSION:2.0
PRODID:spatie/icalendar-generator
DESCRIPTION:Events from Joshua&amp;#039\;s Trust
X-WR-CALDESC:Events from Joshua&amp;#039\;s Trust
REFRESH-INTERVAL;VALUE=DURATION:PT1440M
X-PUBLISHED-TTL:PT1440M
BEGIN:VTIMEZONE
TZID:America/New_York
BEGIN:STANDARD
DTSTART:20251102T020000Z
TZOFFSETFROM:-0400
TZOFFSETTO:-0500
END:STANDARD
BEGIN:DAYLIGHT
DTSTART:20260308T020000Z
TZOFFSETFROM:-0500
TZOFFSETTO:-0400
END:DAYLIGHT
END:VTIMEZONE
BEGIN:VTIMEZONE
TZID:UTC
BEGIN:STANDARD
DTSTART:20250727T040747Z
TZOFFSETFROM:+0000
TZOFFSETTO:+0000
END:STANDARD
END:VTIMEZONE
BEGIN:VEVENT
UID:15-15
DTSTAMP:20260423T040747Z
SUMMARY:Conservation-based Estate Planning | Planning for the Future of You
 r Land
LOCATION:Online
ORGANIZER;CN=Melica Stinnett:MAILTO:melica.stinnett@joshuastrust.org
DTSTART;TZID=America/New_York:20260423T183000
DTEND;TZID=America/New_York:20260423T200000
X-ALT-DESC;FMTTYPE=TEXT/HTML:Zoom Webinar Series Hosted by The Last Green V
 alley Are you a Landowner with an interest in better management and conser
 vation of your family lands but don't know where to start? Join this free 
 webinar series on estate planning and land conservation to learn more!  [
 maxbutton id=\"6\" url=\"https://thelastgreenvalley.org/planning-for-the-f
 uture-of-your-land/\" ] Joshua's Trust is proud to be&amp;hellip\;
CATEGORIES:Event,  Webinar
URL;VALUE=URI:https://joshuastrust.org/mc-events/conservation-based-estate-
 planning-planning-for-the-future-of-your-land/
METHOD:PUBLISH
END:VEVENT
END:VCALENDAR