BEGIN:VCALENDAR
VERSION:2.0
PRODID:spatie/icalendar-generator
DESCRIPTION:Events from Joshua&amp;#039\;s Trust
X-WR-CALDESC:Events from Joshua&amp;#039\;s Trust
REFRESH-INTERVAL;VALUE=DURATION:PT1440M
X-PUBLISHED-TTL:PT1440M
BEGIN:VTIMEZONE
TZID:America/New_York
BEGIN:STANDARD
DTSTART:20251102T020000Z
TZOFFSETFROM:-0400
TZOFFSETTO:-0500
END:STANDARD
BEGIN:DAYLIGHT
DTSTART:20260308T020000Z
TZOFFSETFROM:-0500
TZOFFSETTO:-0400
END:DAYLIGHT
BEGIN:STANDARD
DTSTART:20261101T020000Z
TZOFFSETFROM:-0400
TZOFFSETTO:-0500
END:STANDARD
END:VTIMEZONE
BEGIN:VTIMEZONE
TZID:UTC
BEGIN:STANDARD
DTSTART:20250727T085909Z
TZOFFSETFROM:+0000
TZOFFSETTO:+0000
END:STANDARD
END:VTIMEZONE
BEGIN:VEVENT
UID:7-7
DTSTAMP:20260423T085909Z
SUMMARY:Contemplative Walk
LOCATION:
ORGANIZER;CN=Melica Stinnett:MAILTO:melica.stinnett@joshuastrust.org
DTSTART;TZID=America/New_York:20260531T140000
DTEND;TZID=America/New_York:20260601T033000
X-ALT-DESC;FMTTYPE=TEXT/HTML:Guided Hike with Trustee Debbie Pallatto &amp;nbsp
 \; Location details forthcoming &amp;nbsp\;
CATEGORIES:Event,  Guided Hike
URL;VALUE=URI:https://joshuastrust.org/mc-events/contemplative-walk-3/
METHOD:PUBLISH
END:VEVENT
END:VCALENDAR