BEGIN:VCALENDAR
VERSION:2.0
PRODID:spatie/icalendar-generator
DESCRIPTION:Events from Joshua&amp;#039\;s Trust
X-WR-CALDESC:Events from Joshua&amp;#039\;s Trust
REFRESH-INTERVAL;VALUE=DURATION:PT1440M
X-PUBLISHED-TTL:PT1440M
BEGIN:VTIMEZONE
TZID:America/New_York
BEGIN:STANDARD
DTSTART:20251102T020000Z
TZOFFSETFROM:-0400
TZOFFSETTO:-0500
END:STANDARD
BEGIN:DAYLIGHT
DTSTART:20260308T020000Z
TZOFFSETFROM:-0500
TZOFFSETTO:-0400
END:DAYLIGHT
BEGIN:STANDARD
DTSTART:20261101T020000Z
TZOFFSETFROM:-0400
TZOFFSETTO:-0500
END:STANDARD
END:VTIMEZONE
BEGIN:VTIMEZONE
TZID:UTC
BEGIN:STANDARD
DTSTART:20250727T052447Z
TZOFFSETFROM:+0000
TZOFFSETTO:+0000
END:STANDARD
END:VTIMEZONE
BEGIN:VEVENT
UID:6-6
DTSTAMP:20260423T052447Z
SUMMARY:Contemplative Walk at Wolf Rock Nature Preserve
LOCATION:Wolf Rock Nature Preserve *Near 62 Crane Hill Rd  Mansfield Center
  CT
ORGANIZER;CN=Melica Stinnett:MAILTO:melica.stinnett@joshuastrust.org
DTSTART;TZID=America/New_York:20260509T110000
DTEND;TZID=America/New_York:20260509T123000
X-ALT-DESC;FMTTYPE=TEXT/HTML:Contemplative Walk at Wolf Rock Nature Preserv
 e with Trustee Debbie Pallatto &amp;nbsp\; Space is limited &amp;amp\; registratio
 n is required. [maxbutton id=\"6\" url=\"https://secure.lglforms.com/form_
 engine/s/VWa6Nd-Zu9CYsqYOKgPUEw\" text=\"Register\" ] This walk will take 
 reflective paths\; stopping along the way and allowing ourselves to be dra
 wn into the beauty of creation. We will take time to breathe\, walk\, look
 \, and listen&amp;hellip\;
CATEGORIES:Event,  Guided Hike
URL;VALUE=URI:https://joshuastrust.org/mc-events/contemplative-walk-at-wolf
 -rock-nature-preserve/
METHOD:PUBLISH
END:VEVENT
END:VCALENDAR