BEGIN:VCALENDAR
VERSION:2.0
PRODID:spatie/icalendar-generator
DESCRIPTION:Events from Joshua&amp;#039\;s Trust
X-WR-CALDESC:Events from Joshua&amp;#039\;s Trust
REFRESH-INTERVAL;VALUE=DURATION:PT1440M
X-PUBLISHED-TTL:PT1440M
BEGIN:VTIMEZONE
TZID:America/New_York
BEGIN:STANDARD
DTSTART:20251102T020000Z
TZOFFSETFROM:-0400
TZOFFSETTO:-0500
END:STANDARD
BEGIN:DAYLIGHT
DTSTART:20260308T020000Z
TZOFFSETFROM:-0500
TZOFFSETTO:-0400
END:DAYLIGHT
BEGIN:STANDARD
DTSTART:20261101T020000Z
TZOFFSETFROM:-0400
TZOFFSETTO:-0500
END:STANDARD
END:VTIMEZONE
BEGIN:VTIMEZONE
TZID:UTC
BEGIN:STANDARD
DTSTART:20250727T072505Z
TZOFFSETFROM:+0000
TZOFFSETTO:+0000
END:STANDARD
END:VTIMEZONE
BEGIN:VEVENT
UID:385-361
DTSTAMP:20260423T072505Z
SUMMARY:Explore the Gurleyville Grist Mill
LOCATION:Gurleyville Grist Mill Stone Mill Road  Mansfield CT
ORGANIZER;CN=Melica Stinnett:MAILTO:melica.stinnett@joshuastrust.org
RRULE:FREQ=WEEKLY;UNTIL=20261004T000000Z
DTSTART;TZID=America/New_York:20260524T130000
DTEND;TZID=America/New_York:20260524T170000
X-ALT-DESC;FMTTYPE=TEXT/HTML:OPEN 1:00–5:00PM | SUNDAYS | MAY–OCTOBER G
 uided Tours! Located on the beautiful banks of the Fenton River in Mansfie
 ld\, the Gurleyville Grist Mill is the state's only remaining stone grist 
 mill (c.1835). The Grist Mill began as a mill site in the 1720s\; it now h
 ouses 19th-century machinery. The mill was operated for years by&amp;hellip\;
CATEGORIES:Event,  Guided Tour,  Heritage
URL;VALUE=URI:https://joshuastrust.org/mc-events/explore-the-gurleyville-gr
 ist-mill/?mc_id=385
METHOD:PUBLISH
END:VEVENT
END:VCALENDAR