BEGIN:VCALENDAR
VERSION:2.0
PRODID:spatie/icalendar-generator
DESCRIPTION:Events from Joshua&amp;#039\;s Trust
X-WR-CALDESC:Events from Joshua&amp;#039\;s Trust
REFRESH-INTERVAL;VALUE=DURATION:PT1440M
X-PUBLISHED-TTL:PT1440M
BEGIN:VTIMEZONE
TZID:America/New_York
BEGIN:STANDARD
DTSTART:20251102T020000Z
TZOFFSETFROM:-0400
TZOFFSETTO:-0500
END:STANDARD
BEGIN:DAYLIGHT
DTSTART:20260308T020000Z
TZOFFSETFROM:-0500
TZOFFSETTO:-0400
END:DAYLIGHT
BEGIN:STANDARD
DTSTART:20261101T020000Z
TZOFFSETFROM:-0400
TZOFFSETTO:-0500
END:STANDARD
END:VTIMEZONE
BEGIN:VTIMEZONE
TZID:UTC
BEGIN:STANDARD
DTSTART:20250727T085011Z
TZOFFSETFROM:+0000
TZOFFSETTO:+0000
END:STANDARD
END:VTIMEZONE
BEGIN:VEVENT
UID:409-367
DTSTAMP:20260423T085011Z
SUMMARY:Explore Utley Hill Preserve
LOCATION:Utley Hill Preserve 60 Hennequin Rd  Columbia CT
ORGANIZER;CN=Melica Stinnett:MAILTO:melica.stinnett@joshuastrust.org
DTSTART;TZID=America/New_York:20260607T090000
DTEND;TZID=America/New_York:20260607T103000
X-ALT-DESC;FMTTYPE=TEXT/HTML:Guided Hike with Jim Cole Space is limited &amp;am
 p\; registration is required. [maxbutton id=\"6\" url=\"https://secure.lgl
 forms.com/form_engine/s/VWa6Nd-Zu9CYsqYOKgPUEw\" text=\"Register\" ] Join 
 us at Utley Hill Preserve in Columbia\, CT for a beautiful woodland hike.
  The walk is about 2.5 miles and will take us roughly 1.5 hours. We will 
 meet at the Columbia Recreation Park at 60 Hennequin Road.&amp;hellip\;
CATEGORIES:Event,  Guided Hike
URL;VALUE=URI:https://joshuastrust.org/mc-events/explore-utley-hill-preserv
 e/
METHOD:PUBLISH
END:VEVENT
END:VCALENDAR