BEGIN:VCALENDAR
VERSION:2.0
PRODID:spatie/icalendar-generator
DESCRIPTION:Events from Joshua&amp;#039\;s Trust
X-WR-CALDESC:Events from Joshua&amp;#039\;s Trust
REFRESH-INTERVAL;VALUE=DURATION:PT1440M
X-PUBLISHED-TTL:PT1440M
BEGIN:VTIMEZONE
TZID:America/New_York
BEGIN:STANDARD
DTSTART:20251102T020000Z
TZOFFSETFROM:-0400
TZOFFSETTO:-0500
END:STANDARD
BEGIN:DAYLIGHT
DTSTART:20260308T020000Z
TZOFFSETFROM:-0500
TZOFFSETTO:-0400
END:DAYLIGHT
BEGIN:STANDARD
DTSTART:20261101T020000Z
TZOFFSETFROM:-0400
TZOFFSETTO:-0500
END:STANDARD
END:VTIMEZONE
BEGIN:VTIMEZONE
TZID:UTC
BEGIN:STANDARD
DTSTART:20250727T100404Z
TZOFFSETFROM:+0000
TZOFFSETTO:+0000
END:STANDARD
END:VTIMEZONE
BEGIN:VEVENT
UID:411-369
DTSTAMP:20260423T100404Z
SUMMARY:Fern Finding and Phylogenies: A Walk Through the Forest and a Peek 
 Back in Time
LOCATION:Allanach-Wolf Woodlands 164 Back Road  Windham CT
ORGANIZER;CN=Melica Stinnett:MAILTO:melica.stinnett@joshuastrust.org
DTSTART;TZID=America/New_York:20260530T090000
DTEND;TZID=America/New_York:20260530T103000
X-ALT-DESC;FMTTYPE=TEXT/HTML:Guided Hike with Tammo Reichgelt Space is limi
 ted &amp;amp\; registration is required. [maxbutton id=\"6\" url=\"https://sec
 ure.lglforms.com/form_engine/s/VWa6Nd-Zu9CYsqYOKgPUEw\" text=\"Register\" 
 ] Join UConn Paleobotanist Tammo Reichgelt for a paleobotanical-oriented w
 alk at Allanach-Wolf Woodlands in Windham! Learn to identify ferns\, and d
 iscover great diversity of ferns in New England and the long geologic hist
 ory that some of our most common&amp;hellip\;
CATEGORIES:Event,  Guided Hike
URL;VALUE=URI:https://joshuastrust.org/mc-events/fern-finding-and-phylogeni
 es-a-walk-through-the-forest-and-a-peek-back-in-time/
METHOD:PUBLISH
END:VEVENT
END:VCALENDAR