BEGIN:VCALENDAR
VERSION:2.0
PRODID:spatie/icalendar-generator
DESCRIPTION:Events from Joshua&amp;#039\;s Trust
X-WR-CALDESC:Events from Joshua&amp;#039\;s Trust
REFRESH-INTERVAL;VALUE=DURATION:PT1440M
X-PUBLISHED-TTL:PT1440M
BEGIN:VTIMEZONE
TZID:America/New_York
BEGIN:STANDARD
DTSTART:20251102T020000Z
TZOFFSETFROM:-0400
TZOFFSETTO:-0500
END:STANDARD
BEGIN:DAYLIGHT
DTSTART:20260308T020000Z
TZOFFSETFROM:-0500
TZOFFSETTO:-0400
END:DAYLIGHT
BEGIN:STANDARD
DTSTART:20261101T020000Z
TZOFFSETFROM:-0400
TZOFFSETTO:-0500
END:STANDARD
END:VTIMEZONE
BEGIN:VTIMEZONE
TZID:UTC
BEGIN:STANDARD
DTSTART:20250727T070931Z
TZOFFSETFROM:+0000
TZOFFSETTO:+0000
END:STANDARD
END:VTIMEZONE
BEGIN:VEVENT
UID:358-358
DTSTAMP:20260423T070931Z
SUMMARY:History Walk at Mason’s Mill &amp;amp\; Fish’s Woods Preserve
LOCATION:Mason's Mill 184 Old Turnpike Road  Mansfield CT
ORGANIZER;CN=Melica Stinnett:MAILTO:melica.stinnett@joshuastrust.org
DTSTART;TZID=America/New_York:20260516T100000
DTEND;TZID=America/New_York:20260516T231500
X-ALT-DESC;FMTTYPE=TEXT/HTML:History Walk with Altina Waller\, Historian Jo
 in historian Altina Waller for a guided local history walk at Maso
 n’s Mill and the adjacent newly-acquired Fish’s Woods Preserve. Th
 is History Walk will explore the importance of water-powered mills in 
 daily life preceding the American Revolution and their industrial trans
 formation afterwards. Learn about how John Mason\, the eccentric owner o
 f Mason’s Mill\, confronted that transformation made a historically sig
 nificant impact on Connecticut history. Registration is required. [maxbutt
 on id=\"6\" url=\"https://secure.lglforms.com/form_engine/s/GcMjVwKGf9RIEu
 CPVrhkeA\" ]&amp;hellip\;
CATEGORIES:Event,  History Walk
URL;VALUE=URI:https://joshuastrust.org/mc-events/history-walk-at-masons-mil
 l-fishs-woods-preserve/
METHOD:PUBLISH
END:VEVENT
END:VCALENDAR