BEGIN:VCALENDAR
VERSION:2.0
PRODID:spatie/icalendar-generator
DESCRIPTION:Events from Joshua&amp;#039\;s Trust
X-WR-CALDESC:Events from Joshua&amp;#039\;s Trust
REFRESH-INTERVAL;VALUE=DURATION:PT1440M
X-PUBLISHED-TTL:PT1440M
BEGIN:VTIMEZONE
TZID:America/New_York
BEGIN:STANDARD
DTSTART:20251102T020000Z
TZOFFSETFROM:-0400
TZOFFSETTO:-0500
END:STANDARD
BEGIN:DAYLIGHT
DTSTART:20260308T020000Z
TZOFFSETFROM:-0500
TZOFFSETTO:-0400
END:DAYLIGHT
END:VTIMEZONE
BEGIN:VTIMEZONE
TZID:UTC
BEGIN:STANDARD
DTSTART:20250727T023309Z
TZOFFSETFROM:+0000
TZOFFSETTO:+0000
END:STANDARD
END:VTIMEZONE
BEGIN:VEVENT
UID:408-366
DTSTAMP:20260423T023309Z
SUMMARY:Invasive Species Clean-Up @ Atwood Farm
LOCATION:Atwood Farm 624 Wormwood Hill Road  Mansfield Center CT 06250
ORGANIZER;CN=Joshua's Trust:MAILTO:administration@joshuastrust.org
DTSTART;TZID=America/New_York:20260425T100000
DTEND;TZID=America/New_York:20260425T120000
X-ALT-DESC;FMTTYPE=TEXT/HTML:Invasive Species Clean-Up at Atwood Farm! Come
  lend a hand! Joshua's Trust &amp;amp\; the Mansfield Garden Gate Club need yo
 ur help to eliminate non-native plants around our historic Atwood Farm hea
 dquarters in Mansfield! There is work for all ages and abilities! Invasive
  plants like Japanese Barberry and Oriental Bittersweet choke out native p
 lants and degrade&amp;hellip\;
CATEGORIES:Event,  Community Event,  Trail Crew
URL;VALUE=URI:https://joshuastrust.org/mc-events/invasive-species-clean-up-
 atwood-farm/
METHOD:PUBLISH
END:VEVENT
END:VCALENDAR