BEGIN:VCALENDAR
VERSION:2.0
PRODID:spatie/icalendar-generator
DESCRIPTION:Events from Joshua&amp;#039\;s Trust
X-WR-CALDESC:Events from Joshua&amp;#039\;s Trust
REFRESH-INTERVAL;VALUE=DURATION:PT1440M
X-PUBLISHED-TTL:PT1440M
BEGIN:VTIMEZONE
TZID:America/New_York
BEGIN:STANDARD
DTSTART:20251102T020000Z
TZOFFSETFROM:-0400
TZOFFSETTO:-0500
END:STANDARD
BEGIN:DAYLIGHT
DTSTART:20260308T020000Z
TZOFFSETFROM:-0500
TZOFFSETTO:-0400
END:DAYLIGHT
END:VTIMEZONE
BEGIN:VTIMEZONE
TZID:UTC
BEGIN:STANDARD
DTSTART:20250727T035612Z
TZOFFSETFROM:+0000
TZOFFSETTO:+0000
END:STANDARD
END:VTIMEZONE
BEGIN:VEVENT
UID:407-365
DTSTAMP:20260423T035612Z
SUMMARY:Invasive Species Clean-Up Day
LOCATION:Bradley Buchanan 54 Warrenville Road  Mansfield Center CT 06250
ORGANIZER;CN=Joshua's Trust:MAILTO:administration@joshuastrust.org
DTSTART;TZID=America/New_York:20260418T100000
DTEND;TZID=America/New_York:20260418T120000
X-ALT-DESC;FMTTYPE=TEXT/HTML:Invasive Species Clean-Up! Joshua's Trust\, th
 e Mansfield Public Library\, &amp;amp\; the Mansfield Invasive Plant Working G
 roup need your help to eliminate non-native plants on the boundary of the 
 Bradley-Buchanan Woods in Mansfield! &amp;nbsp\; Invasive plants like Japanese
  Barberry and Oriental Bittersweet choke out native plants and degrade the
  ecosystem. Meet us at the Mansfield Public&amp;hellip\;
CATEGORIES:Event,  Trail Crew
URL;VALUE=URI:https://joshuastrust.org/mc-events/invasive-species-clean-up-
 day/
METHOD:PUBLISH
END:VEVENT
END:VCALENDAR