BEGIN:VCALENDAR
VERSION:2.0
PRODID:spatie/icalendar-generator
DESCRIPTION:Events from Joshua&amp;#039\;s Trust
X-WR-CALDESC:Events from Joshua&amp;#039\;s Trust
REFRESH-INTERVAL;VALUE=DURATION:PT1440M
X-PUBLISHED-TTL:PT1440M
BEGIN:VTIMEZONE
TZID:America/New_York
BEGIN:STANDARD
DTSTART:20251102T020000Z
TZOFFSETFROM:-0400
TZOFFSETTO:-0500
END:STANDARD
BEGIN:DAYLIGHT
DTSTART:20260308T020000Z
TZOFFSETFROM:-0500
TZOFFSETTO:-0400
END:DAYLIGHT
BEGIN:STANDARD
DTSTART:20261101T020000Z
TZOFFSETFROM:-0400
TZOFFSETTO:-0500
END:STANDARD
END:VTIMEZONE
BEGIN:VTIMEZONE
TZID:UTC
BEGIN:STANDARD
DTSTART:20250727T071909Z
TZOFFSETFROM:+0000
TZOFFSETTO:+0000
END:STANDARD
END:VTIMEZONE
BEGIN:VEVENT
UID:410-368
DTSTAMP:20260423T071909Z
SUMMARY:Third Thursday Street Fest
LOCATION:Willimantic Third Thursday Street Fest
ORGANIZER;CN=Melica Stinnett:MAILTO:melica.stinnett@joshuastrust.org
DTSTART;TZID=America/New_York:20260618T180000
DTEND;TZID=America/New_York:20260618T210000
X-ALT-DESC;FMTTYPE=TEXT/HTML:Visit our table at Third Thursday Street Fest!
  Find us with the Air Line State Park Trail Alliance (ALSPTA) Group &amp;nbsp\
 ; Questions about this program can be directed to Melica Stinnett\, Develo
 pment &amp;amp\; Communications Coordinator at melica.stinnett@joshuastrust.or
 g
CATEGORIES:Event,  Community Event
URL;VALUE=URI:https://joshuastrust.org/mc-events/third-thursday-street-fest
 /
METHOD:PUBLISH
END:VEVENT
END:VCALENDAR